BEGIN:VCALENDAR
VERSION:2.0
CALSCALE:GREGORIAN
METHOD:REQUEST
PRODID:Erie Sports Commission
BEGIN:VEVENT
UID: 156702369e550b7f1624@info@eriesports.com
SUMMARY:Erie SeaWolves vs Richmond Flying Squirrels
DTSTAMP:20260419T180127
DTSTART:20260517T133500
DTEND:20260517T133500
LOCATION:
DESCRIPTION:Cheer on the Erie SeaWolves as they take on the Richmond Flying Squirrels!<br />
<br />
Tickets and Schedule
STATUS:CONFIRMED
SEQUENCE:3
END:VEVENT
END:VCALENDAR