BEGIN:VCALENDAR
VERSION:2.0
CALSCALE:GREGORIAN
METHOD:REQUEST
PRODID:Erie Sports Commission
BEGIN:VEVENT
UID: 148141669e550b80040e@info@eriesports.com
SUMMARY:Imagine National Dance Challenge
DTSTAMP:20260419T180128
DTSTART:20260522T000000
DTEND:20260522T000000
LOCATION:1 Sassafras Pier Erie, PA 16507
DESCRIPTION:The Imagine National Dance Challenge, hosted by Star Dance Alliance, will return to Erie for its final regular‑season event at the Bayfront Convention Center. Dancers from studios across the region come together for a weekend filled with creativity, performance excellence, and artistic expression. As one of the culminating events in the season, the competition offers teams the chance to showcase their strongest routines before advancing to national‑level championships.<br />
<br />
The event features a wide variety of styles and divisions, allowing dancers of all ages and experience levels to take the stage in a professionally produced environment. Performances are evaluated by a panel of experienced judges who assess technique, choreography, stage presence, and overall execution. The structure of the event provides dancers with valuable feedback while celebrating growth and achievement throughout the season.<br />
<br />
The Bayfront Convention Center offers an ideal setting for the competition, with its spacious performance areas, comfortable viewing spaces, and scenic location along Erie&#039;s waterfront. Families, coaches, and dancers benefit from the welcoming atmosphere and high quality production that Star Dance Alliance brings to each of its events. With its blend of artistry, energy, and end‑of‑season excitement, the Imagine National Dance Challenge remains a highlight for participating studios and the broader dance community.<br />
<br />
Event details, schedules, formats, and requirements are subject to change at any time. For the most accurate and up‑to‑date information, including rules, specifications, location updates and any last‑minute adjustments, please visit the official event website listed below. All participants, families, and attendees are responsible for reviewing the latest information provided online. <br />
<br />
More Information
STATUS:CONFIRMED
SEQUENCE:3
END:VEVENT
END:VCALENDAR