BEGIN:VCALENDAR
VERSION:2.0
CALSCALE:GREGORIAN
METHOD:REQUEST
PRODID:Erie Sports Commission
BEGIN:VEVENT
UID: 107452969e54b483dc67@info@eriesports.com
SUMMARY:United States Canine Scent Sports 
DTSTAMP:20260419T173816
DTSTART:20260517T000000
DTEND:20260517T000000
LOCATION:8500 Oliver Road Erie, PA 16509
DESCRIPTION:The United States Canine Scent Sports Classic Trial and One Game event, hosted by USCSS and Groovy Pooch, will take place on May 17 and offers dogs and handlers the opportunity to compete in a structured and engaging scent detection environment. The event is designed to welcome a wide range of skill levels, making it suitable for both developing teams and experienced competitors who are working toward higher level titles. With a focus on teamwork, accuracy, and confidence, the trial provides an encouraging setting for canine scent sport enthusiasts.<br />
<br />
The Classic Trial will include classes in Novice, Intermediate, Advanced, Senior, Master, and Game, giving participants a clear progression of challenge and accomplishment. To earn a Classic title, competitors must qualify in all four required elements at the same level: Interior, Exterior, Container, and Vehicle. This structure ensures that teams demonstrate well rounded scent detection skills and consistency across multiple search environments. The One Game portion adds an additional opportunity for teams to test their abilities in a fun and focused format.<br />
<br />
All competitors must be members of the United States Canine Scent Sports organization, and registration is free for all participants. The event maintains an accessible entry point with a $25 entry fee, creating an inviting space for both seasoned handlers and those new to formal scent competition. The emphasis on fair rules, clear expectations, and a supportive atmosphere makes this trial an excellent opportunity for handlers to strengthen their skills and build confidence in their dogs.<br />
<br />
Event details, schedules, formats, and requirements are subject to change at any time. For the most accurate and up‑to‑date information, including rules, specifications, location updates and any last‑minute adjustments, please visit the official event website listed below. All participants, families, and attendees are responsible for reviewing the latest information provided online. <br />
<br />
Register Your Dog<br />
<br />
More Information <br />
<br />
 
STATUS:CONFIRMED
SEQUENCE:3
END:VEVENT
END:VCALENDAR